BEGIN:VCALENDAR
VERSION:2.0
PRODID:-//Olean Star - ECPv6.15.20//NONSGML v1.0//EN
CALSCALE:GREGORIAN
METHOD:PUBLISH
X-WR-CALNAME:Olean Star
X-ORIGINAL-URL:https://staging.oleanstar.com
X-WR-CALDESC:Events for Olean Star
REFRESH-INTERVAL;VALUE=DURATION:PT1H
X-Robots-Tag:noindex
X-PUBLISHED-TTL:PT1H
BEGIN:VTIMEZONE
TZID:America/Halifax
BEGIN:DAYLIGHT
TZOFFSETFROM:-0400
TZOFFSETTO:-0300
TZNAME:ADT
DTSTART:20230312T060000
END:DAYLIGHT
BEGIN:STANDARD
TZOFFSETFROM:-0300
TZOFFSETTO:-0400
TZNAME:AST
DTSTART:20231105T050000
END:STANDARD
BEGIN:DAYLIGHT
TZOFFSETFROM:-0400
TZOFFSETTO:-0300
TZNAME:ADT
DTSTART:20240310T060000
END:DAYLIGHT
BEGIN:STANDARD
TZOFFSETFROM:-0300
TZOFFSETTO:-0400
TZNAME:AST
DTSTART:20241103T050000
END:STANDARD
BEGIN:DAYLIGHT
TZOFFSETFROM:-0400
TZOFFSETTO:-0300
TZNAME:ADT
DTSTART:20250309T060000
END:DAYLIGHT
BEGIN:STANDARD
TZOFFSETFROM:-0300
TZOFFSETTO:-0400
TZNAME:AST
DTSTART:20251102T050000
END:STANDARD
END:VTIMEZONE
BEGIN:VEVENT
DTSTART;TZID=America/Halifax:20240615T140000
DTEND;TZID=America/Halifax:20240615T220000
DTSTAMP:20260423T162320
CREATED:20240522T234241Z
LAST-MODIFIED:20240522T234241Z
UID:10000005-1718460000-1718488800@staging.oleanstar.com
SUMMARY:So Many Roads Jamboree
DESCRIPTION:Our first annual\, “So Many Roads Jamboree”. There will be Food Trucks\, Adult Beverages\, Vendors\, and a Day Filled Amazing Music!!! Tickets are $25BUT – We have a limited amount of early bird tickets available now for $20
URL:https://staging.oleanstar.com/event/so-many-roads-jamboree/
LOCATION:Gargoyle Park\, 101 Gargoyle Road\, Olean\, NY\, 14760\, United States
ATTACH;FMTTYPE=image/jpeg:https://staging.oleanstar.com/wp-content/uploads/2024/05/430097279_1152500982853449_7258946214717511205_n.jpg
END:VEVENT
BEGIN:VEVENT
DTSTART;TZID=America/Halifax:20240530T140000
DTEND;TZID=America/Halifax:20240530T190000
DTSTAMP:20260423T162320
CREATED:20240522T193852Z
LAST-MODIFIED:20240522T194046Z
UID:10000002-1717077600-1717095600@staging.oleanstar.com
SUMMARY:Artesano Del Tobacco In-Store Event
DESCRIPTION:Although you may not know their name\, you do know their cigars.  Artesano del Tobacco is the owner of the Viva la Vida and El Pulpo cigar lines.  Produced in the AJ Fernandez factory\, these are literally my favorite cigars.  Come join our special guests and owners Billy and Gus Fakih from 2-7 on Thursday\, May 30th.  We will have deals across the board on their product as well as some great raffle prizes.
URL:https://staging.oleanstar.com/event/artesano-del-tobacco-in-store-event/
LOCATION:Smokin Bear CIgars\, 1974 West Perimeter Rd.\, Steamburg\, NY\, 14783\, United States
ATTACH;FMTTYPE=image/jpeg:https://staging.oleanstar.com/wp-content/uploads/2024/05/img-2797-edit-1600.jpg
END:VEVENT
BEGIN:VEVENT
DTSTART;TZID=America/Halifax:20240525T160000
DTEND;TZID=America/Halifax:20240525T190000
DTSTAMP:20260423T162320
CREATED:20240522T194638Z
LAST-MODIFIED:20240522T194638Z
UID:10000003-1716652800-1716663600@staging.oleanstar.com
SUMMARY:Live Rock Reggae by Herbal Tonic
DESCRIPTION:Get ready to groove with Herbal Tonic – the must-see jam band of the season! They’re bringing their unique blend of island reggae\, bluesy rhythms\, funky tunes\, and more to Upstate NY this Saturday. You won’t want to miss this epic performance. \nFood and drinks for sale by Parkway Ridge next door \n**Must be 21 and for Customers Only**
URL:https://staging.oleanstar.com/event/live-rock-reggae-by-herbal-tonic/
LOCATION:Apollo Canna Co.\, 380 Parkway Drive\, Salamanca\, NY\, 14779
ATTACH;FMTTYPE=image/webp:https://staging.oleanstar.com/wp-content/uploads/2024/05/thumb662d8147f031c.webp
END:VEVENT
BEGIN:VEVENT
DTSTART;TZID=America/Halifax:20240524T193000
DTEND;TZID=America/Halifax:20240524T233000
DTSTAMP:20260423T162320
CREATED:20240522T232254Z
LAST-MODIFIED:20240522T232254Z
UID:10000004-1716579000-1716593400@staging.oleanstar.com
SUMMARY:Kody & Herren live at Union Whiskey
DESCRIPTION:Kody & Herren perform live at Union Whiskey in Olean\, NY on Friday May 24th from 7:30pm-10:30pm!
URL:https://staging.oleanstar.com/event/kody-herren-live-at-union-whiskey/
LOCATION:Union Whisey\, 184 N. Union St.\, Olean\, NY\, 14760\, United States
ATTACH;FMTTYPE=image/jpeg:https://staging.oleanstar.com/wp-content/uploads/2024/05/436836863_1203426201110820_1584977990870563977_n.jpg
END:VEVENT
END:VCALENDAR